BEGIN:VCALENDAR
VERSION:2.0
PRODID:-//Loughrea GAA - ECPv4.4.1.1//NONSGML v1.0//EN
CALSCALE:GREGORIAN
METHOD:PUBLISH
X-WR-CALNAME:Loughrea GAA
X-ORIGINAL-URL:https://www.loughreagaa.ie
X-WR-CALDESC:Events for Loughrea GAA
BEGIN:VEVENT
DTSTART;TZID=UTC+0:20171115T200000
DTEND;TZID=UTC+0:20171224T220000
DTSTAMP:20171107T192904
CREATED:20151013T090224Z
LAST-MODIFIED:20151013T090224Z
UID:5756-1510776000-1514152800@www.loughreagaa.ie
SUMMARY:FA Premier League 2016: Eagles - Redskins
DESCRIPTION:Donec mollis\, metus a varius faucibus\, est magna tempor mauris\, sit amet lobortis nunc sem non lectus. Proin vitae feugiat lorem\, nec lacinia massa. Integer interdum ipsum sed placerat posuere. Etiam dapibus ante in lacus lacinia\, non convallis quam luctus. Vivamus augue nibh\, fermentum quis justo sed\, fermentum maximus magna. Morbi venenatis eros velit\, elementum sodales turpis viverra at. Phasellus finibus mauris a massa malesuada faucibus. Duis euismod vehicula enim eu placerat. Aenean dictum eget lacus in fermentum. Cras ac ipsum imperdiet\, bibendum tortor quis\, mollis risus. Aliquam quis dapibus est. Vestibulum elementum\, ante nec tristique rutrum\, risus augue dapibus sem\, ut bibendum dolor urna sed lacus.
URL:https://www.loughreagaa.ie/event/fa-premier-league-2016-eagles-redskins/
LOCATION:Edwin Flack Ave\,Sydney Olympic Park\, Sydney\, 2127\, Australia
CATEGORIES:Matches
ATTACH;FMTTYPE=image/jpeg:https://www.loughreagaa.ie/wp-content/uploads/2015/10/06.jpg
ORGANIZER;CN="Sports%20Field%20Inc":MAILTO:Sports_ Field_ Inc@mail.com
END:VEVENT
END:VCALENDAR